BEGIN:VCALENDAR
VERSION:2.0
PRODID:-//Plone.org//NONSGML plone.app.event//EN
X-WR-TIMEZONE:Europe/Berlin
BEGIN:VEVENT
SUMMARY:Programmi di monitoraggio della Strategia Marina: risultati\, espe
 rienze e prospettive
DTSTART;TZID=Europe/Berlin;VALUE=DATE-TIME:20190327T090000
DTEND;TZID=Europe/Berlin;VALUE=DATE-TIME:20190327T160000
DTSTAMP;VALUE=DATE-TIME:20260423T044425Z
UID:c6ed333b322b48769f6cb5ff29db6e40@www.isprambiente.gov.it
CREATED;VALUE=DATE-TIME:20190326T162137Z
LAST-MODIFIED;VALUE=DATE-TIME:20230120T133545Z
LOCATION:Roma
URL:https://www.isprambiente.gov.it/it/archivio/notizie-e-novita-normative
 /notizie-ispra/2019/03/programmi-di-monitoraggio-della-strategia-marina-ri
 sultati-esperienze-e-prospettive
END:VEVENT
BEGIN:VTIMEZONE
TZID:Europe/Berlin
X-LIC-LOCATION:Europe/Berlin
BEGIN:STANDARD
DTSTART;VALUE=DATE-TIME:20181028T020000
TZNAME:CET
TZOFFSETFROM:+0200
TZOFFSETTO:+0100
END:STANDARD
END:VTIMEZONE
END:VCALENDAR
