BEGIN:VCALENDAR
VERSION:2.0
PRODID:-//Plone.org//NONSGML plone.app.event//EN
X-WR-TIMEZONE:Europe/Berlin
BEGIN:VEVENT
SUMMARY:Tutti più responsabili nei confronti di mari e oceani
DTSTART;TZID=Europe/Berlin;VALUE=DATE-TIME:20190318T100000
DTEND;TZID=Europe/Berlin;VALUE=DATE-TIME:20190320T170000
DTSTAMP;VALUE=DATE-TIME:20260423T045744Z
UID:9e7b0feeebd54b909c0cc10d0fdba7e5@www.isprambiente.gov.it
CREATED;VALUE=DATE-TIME:20190219T163245Z
LAST-MODIFIED;VALUE=DATE-TIME:20230120T133545Z
LOCATION:Bruxelles
URL:https://www.isprambiente.gov.it/it/archivio/notizie-e-novita-normative
 /notizie-ispra/2019/03/tutti-piu-responsabili-nei-confronti-di-mari-e-ocea
 ni
END:VEVENT
BEGIN:VTIMEZONE
TZID:Europe/Berlin
X-LIC-LOCATION:Europe/Berlin
BEGIN:STANDARD
DTSTART;VALUE=DATE-TIME:20181028T020000
TZNAME:CET
TZOFFSETFROM:+0200
TZOFFSETTO:+0100
END:STANDARD
END:VTIMEZONE
END:VCALENDAR
