BEGIN:VCALENDAR
VERSION:2.0
PRODID:-//Plone.org//NONSGML plone.app.event//EN
X-WR-TIMEZONE:Europe/Berlin
BEGIN:VEVENT
SUMMARY:Convegno di lancio delle attività del progetto Change We Care
DTSTART;TZID=Europe/Berlin;VALUE=DATE-TIME:20190416T000000
DTEND;TZID=Europe/Berlin;VALUE=DATE-TIME:20190417T000000
DTSTAMP;VALUE=DATE-TIME:20260424T142958Z
UID:646a912acb594e96b3e57cc640757109@www.isprambiente.gov.it
CREATED;VALUE=DATE-TIME:20190328T122000Z
LAST-MODIFIED;VALUE=DATE-TIME:20230120T133546Z
LOCATION:Venezia
URL:https://www.isprambiente.gov.it/it/archivio/notizie-e-novita-normative
 /notizie-ispra/2019/04/convegno-di-lancio-delle-attivita-del-progetto-chan
 ge-we-care
END:VEVENT
BEGIN:VTIMEZONE
TZID:Europe/Berlin
X-LIC-LOCATION:Europe/Berlin
BEGIN:DAYLIGHT
DTSTART;VALUE=DATE-TIME:20190331T030000
TZNAME:CEST
TZOFFSETFROM:+0100
TZOFFSETTO:+0200
END:DAYLIGHT
END:VTIMEZONE
END:VCALENDAR
