BEGIN:VCALENDAR
VERSION:2.0
PRODID:-//Plone.org//NONSGML plone.app.event//EN
X-WR-TIMEZONE:Europe/Berlin
BEGIN:VEVENT
SUMMARY:Innovazione e sperimentazione nella formazione sui temi della sicu
 rezza sul lavoro. Progetti e Prospettive per gli Enti Pubblici di Ricerca 
DTSTART;TZID=Europe/Berlin;VALUE=DATE-TIME:20190402T090000
DTEND;TZID=Europe/Berlin;VALUE=DATE-TIME:20190402T140000
DTSTAMP;VALUE=DATE-TIME:20260423T071754Z
UID:b79662e0fd2d4603aec1c40d48402e4e@www.isprambiente.gov.it
CREATED;VALUE=DATE-TIME:20190325T104004Z
LAST-MODIFIED;VALUE=DATE-TIME:20230120T133545Z
LOCATION:Roma
URL:https://www.isprambiente.gov.it/it/archivio/notizie-e-novita-normative
 /notizie-ispra/2019/04/innovazione-e-sperimentazione-nella-formazione-sui-
 temi-della-sicurezza-sul-lavoro.-progetti-e-prospettive-per-gli-enti-pubbl
 ici-di-ricerca
END:VEVENT
BEGIN:VTIMEZONE
TZID:Europe/Berlin
X-LIC-LOCATION:Europe/Berlin
BEGIN:DAYLIGHT
DTSTART;VALUE=DATE-TIME:20190331T030000
TZNAME:CEST
TZOFFSETFROM:+0100
TZOFFSETTO:+0200
END:DAYLIGHT
END:VTIMEZONE
END:VCALENDAR
