BEGIN:VCALENDAR
VERSION:2.0
PRODID:-//Plone.org//NONSGML plone.app.event//EN
X-WR-TIMEZONE:Europe/Berlin
BEGIN:VEVENT
SUMMARY:Insieme per il futuro dell'orso bruno in Appennino
DTSTART;TZID=Europe/Berlin;VALUE=DATE-TIME:20190411T093000
DTEND;TZID=Europe/Berlin;VALUE=DATE-TIME:20190411T173000
DTSTAMP;VALUE=DATE-TIME:20260423T071631Z
UID:3e94b2ad58034f598d3ae9f7c960565e@www.isprambiente.gov.it
CREATED;VALUE=DATE-TIME:20190405T111426Z
LAST-MODIFIED;VALUE=DATE-TIME:20230120T133545Z
LOCATION:Roma
URL:https://www.isprambiente.gov.it/it/archivio/notizie-e-novita-normative
 /notizie-ispra/2019/04/insieme-per-il-futuro-dellorso-bruno-in-appennino
END:VEVENT
BEGIN:VTIMEZONE
TZID:Europe/Berlin
X-LIC-LOCATION:Europe/Berlin
BEGIN:DAYLIGHT
DTSTART;VALUE=DATE-TIME:20190331T030000
TZNAME:CEST
TZOFFSETFROM:+0100
TZOFFSETTO:+0200
END:DAYLIGHT
END:VTIMEZONE
END:VCALENDAR
