BEGIN:VCALENDAR
VERSION:2.0
PRODID:-//Plone.org//NONSGML plone.app.event//EN
X-WR-TIMEZONE:Europe/Berlin
BEGIN:VEVENT
SUMMARY:La partecipazione pubblica nella gestione dei corpi idrici
DTSTART;TZID=Europe/Berlin;VALUE=DATE-TIME:20190409T090000
DTEND;TZID=Europe/Berlin;VALUE=DATE-TIME:20190409T170000
DTSTAMP;VALUE=DATE-TIME:20260423T044419Z
UID:5d187dbe3648427b92679380e031c6cb@www.isprambiente.gov.it
CREATED;VALUE=DATE-TIME:20190327T133754Z
DESCRIPTION:Il coinvolgimento dei portatori di interesse nei Contratti di 
 Fiume
LAST-MODIFIED;VALUE=DATE-TIME:20230120T133545Z
LOCATION:Roma\, Centro Congressi Fontana di Trevi - Piazza della Pilotta\,
  4
URL:https://www.isprambiente.gov.it/it/archivio/notizie-e-novita-normative
 /notizie-ispra/2019/04/la-partecipazione-pubblica-nella-gestione-dei-corpi
 -idrici
END:VEVENT
BEGIN:VTIMEZONE
TZID:Europe/Berlin
X-LIC-LOCATION:Europe/Berlin
BEGIN:DAYLIGHT
DTSTART;VALUE=DATE-TIME:20190331T030000
TZNAME:CEST
TZOFFSETFROM:+0100
TZOFFSETTO:+0200
END:DAYLIGHT
END:VTIMEZONE
END:VCALENDAR
