BEGIN:VCALENDAR
VERSION:2.0
PRODID:-//Plone.org//NONSGML plone.app.event//EN
X-WR-TIMEZONE:Europe/Berlin
BEGIN:VEVENT
SUMMARY:L'Aquila 2009-2019. Dieci anni di esperienze\, studi e criticità
DTSTART;TZID=Europe/Berlin;VALUE=DATE-TIME:20190412T090000
DTEND;TZID=Europe/Berlin;VALUE=DATE-TIME:20190412T180000
DTSTAMP;VALUE=DATE-TIME:20260423T071549Z
UID:a99341f8746c4da1a69adaa7ec76aa0c@www.isprambiente.gov.it
CREATED;VALUE=DATE-TIME:20190402T115723Z
LAST-MODIFIED;VALUE=DATE-TIME:20230120T133545Z
LOCATION:Chieti
URL:https://www.isprambiente.gov.it/it/archivio/notizie-e-novita-normative
 /notizie-ispra/2019/04/laquila-2009-2019.-dieci-anni-di-esperienze-studi-e
 -criticita
END:VEVENT
BEGIN:VTIMEZONE
TZID:Europe/Berlin
X-LIC-LOCATION:Europe/Berlin
BEGIN:DAYLIGHT
DTSTART;VALUE=DATE-TIME:20190331T030000
TZNAME:CEST
TZOFFSETFROM:+0100
TZOFFSETTO:+0200
END:DAYLIGHT
END:VTIMEZONE
END:VCALENDAR
