BEGIN:VCALENDAR
VERSION:2.0
PRODID:-//Plone.org//NONSGML plone.app.event//EN
X-WR-TIMEZONE:Europe/Berlin
BEGIN:VEVENT
SUMMARY:Per una strategia nazionale dei rifiuti
DTSTART;TZID=Europe/Berlin;VALUE=DATE-TIME:20190418T093000
DTEND;TZID=Europe/Berlin;VALUE=DATE-TIME:20190418T133000
DTSTAMP;VALUE=DATE-TIME:20260423T071610Z
UID:cf8dcf134114428cab6e10eee715c5e2@www.isprambiente.gov.it
CREATED;VALUE=DATE-TIME:20190318T155043Z
LAST-MODIFIED;VALUE=DATE-TIME:20230120T133545Z
LOCATION:Roma
URL:https://www.isprambiente.gov.it/it/archivio/notizie-e-novita-normative
 /notizie-ispra/2019/04/per-una-strategia-nazionale-dei-rifiuti
END:VEVENT
BEGIN:VTIMEZONE
TZID:Europe/Berlin
X-LIC-LOCATION:Europe/Berlin
BEGIN:DAYLIGHT
DTSTART;VALUE=DATE-TIME:20190331T030000
TZNAME:CEST
TZOFFSETFROM:+0100
TZOFFSETTO:+0200
END:DAYLIGHT
END:VTIMEZONE
END:VCALENDAR
