BEGIN:VCALENDAR
VERSION:2.0
PRODID:-//Plone.org//NONSGML plone.app.event//EN
X-WR-TIMEZONE:Europe/Berlin
BEGIN:VEVENT
SUMMARY:Prima Conferenza Nazionale sul futuro sostenibile delle plastiche 
DTSTART;TZID=Europe/Berlin;VALUE=DATE-TIME:20190405T093000
DTEND;TZID=Europe/Berlin;VALUE=DATE-TIME:20190405T170000
DTSTAMP;VALUE=DATE-TIME:20260423T071636Z
UID:3a833bc43146472e846c9ac777f9d0c4@www.isprambiente.gov.it
CREATED;VALUE=DATE-TIME:20190306T124620Z
LAST-MODIFIED;VALUE=DATE-TIME:20230120T133545Z
LOCATION:Milano
URL:https://www.isprambiente.gov.it/it/archivio/notizie-e-novita-normative
 /notizie-ispra/2019/04/prima-conferenza-nazionale-sul-futuro-sostenibile-d
 elle-plastiche
END:VEVENT
BEGIN:VTIMEZONE
TZID:Europe/Berlin
X-LIC-LOCATION:Europe/Berlin
BEGIN:DAYLIGHT
DTSTART;VALUE=DATE-TIME:20190331T030000
TZNAME:CEST
TZOFFSETFROM:+0100
TZOFFSETTO:+0200
END:DAYLIGHT
END:VTIMEZONE
END:VCALENDAR
