BEGIN:VCALENDAR
VERSION:2.0
PRODID:-//Plone.org//NONSGML plone.app.event//EN
X-WR-TIMEZONE:Europe/Berlin
BEGIN:VEVENT
SUMMARY:Progetto Eco-AlpsWater: Innovative Ecological Assessment and Water
  Management Strategy for the Protection of Ecosystem Services in Alpine La
 kes and Rivers
DTSTART;TZID=Europe/Berlin;VALUE=DATE-TIME:20190411T093000
DTEND;TZID=Europe/Berlin;VALUE=DATE-TIME:20190411T163000
DTSTAMP;VALUE=DATE-TIME:20260423T062507Z
UID:db25a7cd34b4494992d9eb6e56f77b29@www.isprambiente.gov.it
CREATED;VALUE=DATE-TIME:20190315T122659Z
DESCRIPTION:Seminario di presentazione del Progetto
LAST-MODIFIED;VALUE=DATE-TIME:20230120T133545Z
LOCATION:Verona
URL:https://www.isprambiente.gov.it/it/archivio/notizie-e-novita-normative
 /notizie-ispra/2019/04/progetto-eco-alpswater-innovative-ecological-assess
 ment-and-water-management-strategy-for-the-protection-of-ecosystem-service
 s-in-alpine-lakes-and-rivers
END:VEVENT
BEGIN:VTIMEZONE
TZID:Europe/Berlin
X-LIC-LOCATION:Europe/Berlin
BEGIN:DAYLIGHT
DTSTART;VALUE=DATE-TIME:20190331T030000
TZNAME:CEST
TZOFFSETFROM:+0100
TZOFFSETTO:+0200
END:DAYLIGHT
END:VTIMEZONE
END:VCALENDAR
