BEGIN:VCALENDAR
VERSION:2.0
PRODID:-//Plone.org//NONSGML plone.app.event//EN
X-WR-TIMEZONE:Europe/Berlin
BEGIN:VEVENT
SUMMARY:Riduzione del consumo di suolo e patrimonio paesaggistico e ambien
 tale
DTSTART;TZID=Europe/Berlin;VALUE=DATE-TIME:20190412T000000
DTEND;TZID=Europe/Berlin;VALUE=DATE-TIME:20190412T000000
DTSTAMP;VALUE=DATE-TIME:20260423T071713Z
UID:adf211c8aaf843959baa8322e5d7c8fe@www.isprambiente.gov.it
CREATED;VALUE=DATE-TIME:20190404T132925Z
LAST-MODIFIED;VALUE=DATE-TIME:20230120T133545Z
LOCATION:Messina
URL:https://www.isprambiente.gov.it/it/archivio/notizie-e-novita-normative
 /notizie-ispra/2019/04/riduzione-del-consumo-di-suolo-e-patrimonio-paesagg
 istico-e-ambientale
END:VEVENT
BEGIN:VTIMEZONE
TZID:Europe/Berlin
X-LIC-LOCATION:Europe/Berlin
BEGIN:DAYLIGHT
DTSTART;VALUE=DATE-TIME:20190331T030000
TZNAME:CEST
TZOFFSETFROM:+0100
TZOFFSETTO:+0200
END:DAYLIGHT
END:VTIMEZONE
END:VCALENDAR
