BEGIN:VCALENDAR
VERSION:2.0
PRODID:-//Plone.org//NONSGML plone.app.event//EN
X-WR-TIMEZONE:Europe/Berlin
BEGIN:VEVENT
SUMMARY:Semi e frutti antichi
DTSTART;TZID=Europe/Berlin;VALUE=DATE-TIME:20190411T084500
DTEND;TZID=Europe/Berlin;VALUE=DATE-TIME:20190411T084500
DTSTAMP;VALUE=DATE-TIME:20260423T013315Z
UID:4619b4d8d8a0447e8b7a8303d0cdfb0b@www.isprambiente.gov.it
CREATED;VALUE=DATE-TIME:20190405T105531Z
LAST-MODIFIED;VALUE=DATE-TIME:20230120T133545Z
LOCATION:Rieti
URL:https://www.isprambiente.gov.it/it/archivio/notizie-e-novita-normative
 /notizie-ispra/2019/04/semi-e-frutti-antichi
END:VEVENT
BEGIN:VTIMEZONE
TZID:Europe/Berlin
X-LIC-LOCATION:Europe/Berlin
BEGIN:DAYLIGHT
DTSTART;VALUE=DATE-TIME:20190331T030000
TZNAME:CEST
TZOFFSETFROM:+0100
TZOFFSETTO:+0200
END:DAYLIGHT
END:VTIMEZONE
END:VCALENDAR
