BEGIN:VCALENDAR
VERSION:2.0
PRODID:-//Plone.org//NONSGML plone.app.event//EN
X-WR-TIMEZONE:Europe/Berlin
BEGIN:VEVENT
SUMMARY:Sessione plenaria della rete europea ENCA
DTSTART;TZID=Europe/Berlin;VALUE=DATE-TIME:20190407T000000
DTEND;TZID=Europe/Berlin;VALUE=DATE-TIME:20190408T000000
DTSTAMP;VALUE=DATE-TIME:20260423T071513Z
UID:ae9239203b12466c812f23093aff5207@www.isprambiente.gov.it
CREATED;VALUE=DATE-TIME:20190408T125658Z
LAST-MODIFIED;VALUE=DATE-TIME:20230120T133545Z
LOCATION:Vienna
URL:https://www.isprambiente.gov.it/it/archivio/notizie-e-novita-normative
 /notizie-ispra/2019/04/sessione-plenaria-della-rete-europea-enca
END:VEVENT
BEGIN:VTIMEZONE
TZID:Europe/Berlin
X-LIC-LOCATION:Europe/Berlin
BEGIN:DAYLIGHT
DTSTART;VALUE=DATE-TIME:20190331T030000
TZNAME:CEST
TZOFFSETFROM:+0100
TZOFFSETTO:+0200
END:DAYLIGHT
END:VTIMEZONE
END:VCALENDAR
