BEGIN:VCALENDAR
VERSION:2.0
PRODID:-//Plone.org//NONSGML plone.app.event//EN
X-WR-TIMEZONE:Europe/Berlin
BEGIN:VEVENT
SUMMARY:Settima Rassegna Urbanistica Nazionale “Mosaico Italia: racconta
 re il futuro"
DTSTART;TZID=Europe/Berlin;VALUE=DATE-TIME:20190403T000000
DTEND;TZID=Europe/Berlin;VALUE=DATE-TIME:20190406T000000
DTSTAMP;VALUE=DATE-TIME:20260423T071816Z
UID:b94c6bf57d024503ad3e10f9c346828a@www.isprambiente.gov.it
CREATED;VALUE=DATE-TIME:20190402T170000Z
LAST-MODIFIED;VALUE=DATE-TIME:20230120T133545Z
LOCATION:Riva del Garda
URL:https://www.isprambiente.gov.it/it/archivio/notizie-e-novita-normative
 /notizie-ispra/2019/04/settima-rassegna-urbanistica-nazionale-201cmosaico-
 italia-raccontare-il-futuro
END:VEVENT
BEGIN:VTIMEZONE
TZID:Europe/Berlin
X-LIC-LOCATION:Europe/Berlin
BEGIN:DAYLIGHT
DTSTART;VALUE=DATE-TIME:20190331T030000
TZNAME:CEST
TZOFFSETFROM:+0100
TZOFFSETTO:+0200
END:DAYLIGHT
END:VTIMEZONE
END:VCALENDAR
