BEGIN:VCALENDAR
VERSION:2.0
PRODID:-//Plone.org//NONSGML plone.app.event//EN
X-WR-TIMEZONE:Europe/Berlin
BEGIN:VEVENT
SUMMARY:Verso sistemi alimentari sostenibili e resilienti 
DTSTART;TZID=Europe/Berlin;VALUE=DATE-TIME:20190405T170000
DTEND;TZID=Europe/Berlin;VALUE=DATE-TIME:20190405T190000
DTSTAMP;VALUE=DATE-TIME:20260423T004332Z
UID:25be25c8172342f097ee724372150d02@www.isprambiente.gov.it
CREATED;VALUE=DATE-TIME:20190329T085707Z
LAST-MODIFIED;VALUE=DATE-TIME:20230120T133545Z
LOCATION:Cremona
URL:https://www.isprambiente.gov.it/it/archivio/notizie-e-novita-normative
 /notizie-ispra/2019/04/verso-sistemi-alimentari-sostenibili-e-resilienti
END:VEVENT
BEGIN:VTIMEZONE
TZID:Europe/Berlin
X-LIC-LOCATION:Europe/Berlin
BEGIN:DAYLIGHT
DTSTART;VALUE=DATE-TIME:20190331T030000
TZNAME:CEST
TZOFFSETFROM:+0100
TZOFFSETTO:+0200
END:DAYLIGHT
END:VTIMEZONE
END:VCALENDAR
