BEGIN:VCALENDAR
VERSION:2.0
PRODID:-//Plone.org//NONSGML plone.app.event//EN
X-WR-TIMEZONE:Europe/Berlin
BEGIN:VEVENT
SUMMARY:Primo InfoDay del progetto ChangeWeCare sulla resilienza delle cos
 te adriatiche al cambiamento climatico
DTSTART;TZID=Europe/Berlin;VALUE=DATE-TIME:20190531T090000
DTEND;TZID=Europe/Berlin;VALUE=DATE-TIME:20190531T130000
DTSTAMP;VALUE=DATE-TIME:20260423T061319Z
UID:40f1a119dda8448c8717acc36b13f460@www.isprambiente.gov.it
CREATED;VALUE=DATE-TIME:20190516T160637Z
LAST-MODIFIED;VALUE=DATE-TIME:20230120T133535Z
LOCATION:Goro
URL:https://www.isprambiente.gov.it/it/archivio/notizie-e-novita-normative
 /notizie-ispra/2019/05/primo-infoday-del-progetto-changewecare-sulla-resil
 ienza-delle-coste-adriatiche-al-cambiamento-climatico
END:VEVENT
BEGIN:VTIMEZONE
TZID:Europe/Berlin
X-LIC-LOCATION:Europe/Berlin
BEGIN:DAYLIGHT
DTSTART;VALUE=DATE-TIME:20190331T030000
TZNAME:CEST
TZOFFSETFROM:+0100
TZOFFSETTO:+0200
END:DAYLIGHT
END:VTIMEZONE
END:VCALENDAR
