BEGIN:VCALENDAR
VERSION:2.0
PRODID:-//Plone.org//NONSGML plone.app.event//EN
X-WR-TIMEZONE:Europe/Berlin
BEGIN:VEVENT
SUMMARY:Recenti indirizzi nella gestione del rischio alluvioni e manifesta
 zioni climatiche dell'ottobre 2018: la tempesta Vaia
DTSTART;TZID=Europe/Berlin;VALUE=DATE-TIME:20190507T083000
DTEND;TZID=Europe/Berlin;VALUE=DATE-TIME:20190507T130000
DTSTAMP;VALUE=DATE-TIME:20260423T063116Z
UID:c94e252b56d349c98e54e41697868c5f@www.isprambiente.gov.it
CREATED;VALUE=DATE-TIME:20190410T132144Z
LAST-MODIFIED;VALUE=DATE-TIME:20230120T133524Z
LOCATION:Padova
URL:https://www.isprambiente.gov.it/it/archivio/notizie-e-novita-normative
 /notizie-ispra/2019/05/recenti-indirizzi-nella-gestione-del-rischio-alluvi
 oni-e-manifestazioni-climatiche-dellottobre-2018-la-tempesta-vaia
END:VEVENT
BEGIN:VTIMEZONE
TZID:Europe/Berlin
X-LIC-LOCATION:Europe/Berlin
BEGIN:DAYLIGHT
DTSTART;VALUE=DATE-TIME:20190331T030000
TZNAME:CEST
TZOFFSETFROM:+0100
TZOFFSETTO:+0200
END:DAYLIGHT
END:VTIMEZONE
END:VCALENDAR
