BEGIN:VCALENDAR
VERSION:2.0
PRODID:-//Plone.org//NONSGML plone.app.event//EN
X-WR-TIMEZONE:Europe/Berlin
BEGIN:VEVENT
SUMMARY:CittàSlow Assemblea 2019
DTSTART;TZID=Europe/Berlin;VALUE=DATE-TIME:20190620T000000
DTEND;TZID=Europe/Berlin;VALUE=DATE-TIME:20190623T000000
DTSTAMP;VALUE=DATE-TIME:20260422T194814Z
UID:40637be3f7b041638f327ecea889de73@www.isprambiente.gov.it
CREATED;VALUE=DATE-TIME:20190617T120518Z
LAST-MODIFIED;VALUE=DATE-TIME:20230120T133535Z
LOCATION:Orvieto
URL:https://www.isprambiente.gov.it/it/archivio/notizie-e-novita-normative
 /notizie-ispra/2019/06/cittaslow-assemblea-2019
END:VEVENT
BEGIN:VTIMEZONE
TZID:Europe/Berlin
X-LIC-LOCATION:Europe/Berlin
BEGIN:DAYLIGHT
DTSTART;VALUE=DATE-TIME:20190331T030000
TZNAME:CEST
TZOFFSETFROM:+0100
TZOFFSETTO:+0200
END:DAYLIGHT
END:VTIMEZONE
END:VCALENDAR
