BEGIN:VCALENDAR
VERSION:2.0
PRODID:-//Plone.org//NONSGML plone.app.event//EN
X-WR-TIMEZONE:Europe/Berlin
BEGIN:VEVENT
SUMMARY:Conferenza Internazionale: “Adapt to Climate”
DTSTART;TZID=Europe/Berlin;VALUE=DATE-TIME:20190624T000000
DTEND;TZID=Europe/Berlin;VALUE=DATE-TIME:20190625T000000
DTSTAMP;VALUE=DATE-TIME:20260424T142921Z
UID:ab2d4b4d41d0429ca2f8ae84a1771d59@www.isprambiente.gov.it
CREATED;VALUE=DATE-TIME:20190620T180815Z
LAST-MODIFIED;VALUE=DATE-TIME:20230120T133535Z
LOCATION:Heraklion (Creta)
URL:https://www.isprambiente.gov.it/it/archivio/notizie-e-novita-normative
 /notizie-ispra/2019/06/conferenza-internazionale-201cadapt-to-climate201d-
 1
END:VEVENT
BEGIN:VTIMEZONE
TZID:Europe/Berlin
X-LIC-LOCATION:Europe/Berlin
BEGIN:DAYLIGHT
DTSTART;VALUE=DATE-TIME:20190331T030000
TZNAME:CEST
TZOFFSETFROM:+0100
TZOFFSETTO:+0200
END:DAYLIGHT
END:VTIMEZONE
END:VCALENDAR
