BEGIN:VCALENDAR
VERSION:2.0
PRODID:-//Plone.org//NONSGML plone.app.event//EN
X-WR-TIMEZONE:Europe/Berlin
BEGIN:VEVENT
SUMMARY:Consapevolezza del rischio e cultura della sicurezza
DTSTART;TZID=Europe/Berlin;VALUE=DATE-TIME:20190605T100000
DTEND;TZID=Europe/Berlin;VALUE=DATE-TIME:20190605T183000
DTSTAMP;VALUE=DATE-TIME:20260422T194813Z
UID:9d920b1d767b4480a77711af981b5bc7@www.isprambiente.gov.it
CREATED;VALUE=DATE-TIME:20190530T101409Z
LAST-MODIFIED;VALUE=DATE-TIME:20230120T133535Z
LOCATION:Isola Polvese\, Lago Trasimeno
URL:https://www.isprambiente.gov.it/it/archivio/notizie-e-novita-normative
 /notizie-ispra/2019/06/consapevolezza-del-rischio-e-cultura-della-sicurezz
 a
END:VEVENT
BEGIN:VTIMEZONE
TZID:Europe/Berlin
X-LIC-LOCATION:Europe/Berlin
BEGIN:DAYLIGHT
DTSTART;VALUE=DATE-TIME:20190331T030000
TZNAME:CEST
TZOFFSETFROM:+0100
TZOFFSETTO:+0200
END:DAYLIGHT
END:VTIMEZONE
END:VCALENDAR
