BEGIN:VCALENDAR
VERSION:2.0
PRODID:-//Plone.org//NONSGML plone.app.event//EN
X-WR-TIMEZONE:Europe/Berlin
BEGIN:VEVENT
SUMMARY:Convegno “Plastiche in ... rete”
DTSTART;TZID=Europe/Berlin;VALUE=DATE-TIME:20190615T100000
DTEND;TZID=Europe/Berlin;VALUE=DATE-TIME:20190615T133000
DTSTAMP;VALUE=DATE-TIME:20260423T061520Z
UID:20eda2f9d2ab436e8cfcac28c62e506f@www.isprambiente.gov.it
CREATED;VALUE=DATE-TIME:20190613T121208Z
LAST-MODIFIED;VALUE=DATE-TIME:20230120T133535Z
LOCATION:Rimini - Sala del Buonarrivo\, presso sede Provincia di Rimini - 
 Corso D'Augusto n. 231
URL:https://www.isprambiente.gov.it/it/archivio/notizie-e-novita-normative
 /notizie-ispra/2019/06/convegno-201cplastiche-in-...-rete201d
END:VEVENT
BEGIN:VTIMEZONE
TZID:Europe/Berlin
X-LIC-LOCATION:Europe/Berlin
BEGIN:DAYLIGHT
DTSTART;VALUE=DATE-TIME:20190331T030000
TZNAME:CEST
TZOFFSETFROM:+0100
TZOFFSETTO:+0200
END:DAYLIGHT
END:VTIMEZONE
END:VCALENDAR
