BEGIN:VCALENDAR
VERSION:2.0
PRODID:-//Plone.org//NONSGML plone.app.event//EN
X-WR-TIMEZONE:Europe/Berlin
BEGIN:VEVENT
SUMMARY:Dalla costa agli abissi
DTSTART;TZID=Europe/Berlin;VALUE=DATE-TIME:20190608T100000
DTEND;TZID=Europe/Berlin;VALUE=DATE-TIME:20190608T180000
DTSTAMP;VALUE=DATE-TIME:20260422T194844Z
UID:62d01f7e50844f7e8dba7b34755fa897@www.isprambiente.gov.it
CREATED;VALUE=DATE-TIME:20190603T132648Z
DESCRIPTION:Bellezza e fragilità di un mondo sottomarino
LAST-MODIFIED;VALUE=DATE-TIME:20230120T133535Z
LOCATION:Cannes
URL:https://www.isprambiente.gov.it/it/archivio/notizie-e-novita-normative
 /notizie-ispra/2019/06/dalla-costa-agli-abissi
END:VEVENT
BEGIN:VTIMEZONE
TZID:Europe/Berlin
X-LIC-LOCATION:Europe/Berlin
BEGIN:DAYLIGHT
DTSTART;VALUE=DATE-TIME:20190331T030000
TZNAME:CEST
TZOFFSETFROM:+0100
TZOFFSETTO:+0200
END:DAYLIGHT
END:VTIMEZONE
END:VCALENDAR
