BEGIN:VCALENDAR
VERSION:2.0
PRODID:-//Plone.org//NONSGML plone.app.event//EN
X-WR-TIMEZONE:Europe/Berlin
BEGIN:VEVENT
SUMMARY:Giornate della Ricerca
DTSTART;TZID=Europe/Berlin;VALUE=DATE-TIME:20190610T130000
DTEND;TZID=Europe/Berlin;VALUE=DATE-TIME:20190611T133000
DTSTAMP;VALUE=DATE-TIME:20260422T194813Z
UID:4f9d4f09be0b4bbbac5b4170fbdc12a7@www.isprambiente.gov.it
CREATED;VALUE=DATE-TIME:20190530T120536Z
LAST-MODIFIED;VALUE=DATE-TIME:20230120T133535Z
LOCATION:Pisa
URL:https://www.isprambiente.gov.it/it/archivio/notizie-e-novita-normative
 /notizie-ispra/2019/06/giornate-della-ricerca
END:VEVENT
BEGIN:VTIMEZONE
TZID:Europe/Berlin
X-LIC-LOCATION:Europe/Berlin
BEGIN:DAYLIGHT
DTSTART;VALUE=DATE-TIME:20190331T030000
TZNAME:CEST
TZOFFSETFROM:+0100
TZOFFSETTO:+0200
END:DAYLIGHT
END:VTIMEZONE
END:VCALENDAR
