BEGIN:VCALENDAR
VERSION:2.0
PRODID:-//Plone.org//NONSGML plone.app.event//EN
X-WR-TIMEZONE:Europe/Berlin
BEGIN:VEVENT
SUMMARY:Lo sviluppo sostenibile: didattica\, ricerca e innovazione nel cam
 po agroalimentare per l’agenda 2030
DTSTART;TZID=Europe/Berlin;VALUE=DATE-TIME:20190617T140000
DTEND;TZID=Europe/Berlin;VALUE=DATE-TIME:20190618T173000
DTSTAMP;VALUE=DATE-TIME:20260422T195223Z
UID:8ed75022af464cb88e9f8cc5baa638a7@www.isprambiente.gov.it
CREATED;VALUE=DATE-TIME:20190531T152336Z
LAST-MODIFIED;VALUE=DATE-TIME:20230120T133535Z
LOCATION:Roma
URL:https://www.isprambiente.gov.it/it/archivio/notizie-e-novita-normative
 /notizie-ispra/2019/06/lo-sviluppo-sostenibile-didattica-ricerca-e-innovaz
 ione-nel-campo-agroalimentare-per-l2019agenda-2030
END:VEVENT
BEGIN:VTIMEZONE
TZID:Europe/Berlin
X-LIC-LOCATION:Europe/Berlin
BEGIN:DAYLIGHT
DTSTART;VALUE=DATE-TIME:20190331T030000
TZNAME:CEST
TZOFFSETFROM:+0100
TZOFFSETTO:+0200
END:DAYLIGHT
END:VTIMEZONE
END:VCALENDAR
