BEGIN:VCALENDAR
VERSION:2.0
PRODID:-//Plone.org//NONSGML plone.app.event//EN
X-WR-TIMEZONE:Europe/Berlin
BEGIN:VEVENT
SUMMARY:MEDSEALITTER: evento finale
DTSTART;TZID=Europe/Berlin;VALUE=DATE-TIME:20190611T090000
DTEND;TZID=Europe/Berlin;VALUE=DATE-TIME:20190612T140000
DTSTAMP;VALUE=DATE-TIME:20260423T101431Z
UID:0d29d5cfbe3247b484b755a56c9bf2ca@www.isprambiente.gov.it
CREATED;VALUE=DATE-TIME:20190604T230150Z
DESCRIPTION:Conferenza internazionale
LAST-MODIFIED;VALUE=DATE-TIME:20230120T133535Z
LOCATION:Roma\, Villa Celimontana
URL:https://www.isprambiente.gov.it/it/archivio/notizie-e-novita-normative
 /notizie-ispra/2019/06/medsealitter-evento-finale
END:VEVENT
BEGIN:VTIMEZONE
TZID:Europe/Berlin
X-LIC-LOCATION:Europe/Berlin
BEGIN:DAYLIGHT
DTSTART;VALUE=DATE-TIME:20190331T030000
TZNAME:CEST
TZOFFSETFROM:+0100
TZOFFSETTO:+0200
END:DAYLIGHT
END:VTIMEZONE
END:VCALENDAR
