BEGIN:VCALENDAR
VERSION:2.0
PRODID:-//Plone.org//NONSGML plone.app.event//EN
X-WR-TIMEZONE:Europe/Berlin
BEGIN:VEVENT
SUMMARY:Nuovi approcci per la valutazione della qualità dell’ambiente m
 arino nel contesto delle direttive europee
DTSTART;TZID=Europe/Berlin;VALUE=DATE-TIME:20190620T000000
DTEND;TZID=Europe/Berlin;VALUE=DATE-TIME:20190620T000000
DTSTAMP;VALUE=DATE-TIME:20260422T195223Z
UID:ecbe9b05b0e846ea915327e7669f9896@www.isprambiente.gov.it
CREATED;VALUE=DATE-TIME:20190612T142112Z
LAST-MODIFIED;VALUE=DATE-TIME:20230120T133535Z
LOCATION:Cagliari\, Cittadella dei Musei
URL:https://www.isprambiente.gov.it/it/archivio/notizie-e-novita-normative
 /notizie-ispra/2019/06/nuovi-approcci-per-la-valutazione-della-qualita-del
 l2019ambiente-marino-nel-contesto-delle-direttive-europee
END:VEVENT
BEGIN:VTIMEZONE
TZID:Europe/Berlin
X-LIC-LOCATION:Europe/Berlin
BEGIN:DAYLIGHT
DTSTART;VALUE=DATE-TIME:20190331T030000
TZNAME:CEST
TZOFFSETFROM:+0100
TZOFFSETTO:+0200
END:DAYLIGHT
END:VTIMEZONE
END:VCALENDAR
