BEGIN:VCALENDAR
VERSION:2.0
PRODID:-//Plone.org//NONSGML plone.app.event//EN
X-WR-TIMEZONE:Europe/Berlin
BEGIN:VEVENT
SUMMARY:Relazione sullo stato dell'ambiente in Piemonte 2019
DTSTART;TZID=Europe/Berlin;VALUE=DATE-TIME:20190620T090000
DTEND;TZID=Europe/Berlin;VALUE=DATE-TIME:20190620T130000
DTSTAMP;VALUE=DATE-TIME:20260422T194854Z
UID:88d72a612a02496c9a200c1df3dc8bb1@www.isprambiente.gov.it
CREATED;VALUE=DATE-TIME:20190617T101816Z
LAST-MODIFIED;VALUE=DATE-TIME:20230120T133535Z
LOCATION:Torino
URL:https://www.isprambiente.gov.it/it/archivio/notizie-e-novita-normative
 /notizie-ispra/2019/06/relazione-sullo-stato-dellambiente-in-piemonte-2019
END:VEVENT
BEGIN:VTIMEZONE
TZID:Europe/Berlin
X-LIC-LOCATION:Europe/Berlin
BEGIN:DAYLIGHT
DTSTART;VALUE=DATE-TIME:20190331T030000
TZNAME:CEST
TZOFFSETFROM:+0100
TZOFFSETTO:+0200
END:DAYLIGHT
END:VTIMEZONE
END:VCALENDAR
