BEGIN:VCALENDAR
VERSION:2.0
PRODID:-//Plone.org//NONSGML plone.app.event//EN
X-WR-TIMEZONE:Europe/Berlin
BEGIN:VEVENT
SUMMARY:Tevere Nostrum - Sicuro. Pulito. Da vivere. Un fiume Parco Naziona
 le
DTSTART;TZID=Europe/Berlin;VALUE=DATE-TIME:20190617T100000
DTEND;TZID=Europe/Berlin;VALUE=DATE-TIME:20190617T130000
DTSTAMP;VALUE=DATE-TIME:20260422T195054Z
UID:71c876c61d244a85b9430e19d7e140ab@www.isprambiente.gov.it
CREATED;VALUE=DATE-TIME:20190612T110042Z
LAST-MODIFIED;VALUE=DATE-TIME:20230120T133535Z
LOCATION:Roma\, Sala Polifunzionale della Presidenza del Consiglio dei Min
 istri
URL:https://www.isprambiente.gov.it/it/archivio/notizie-e-novita-normative
 /notizie-ispra/2019/06/tevere-nostrum-sicuro.-pulito.-da-vivere.-un-fiume-
 parco-nazionale
END:VEVENT
BEGIN:VTIMEZONE
TZID:Europe/Berlin
X-LIC-LOCATION:Europe/Berlin
BEGIN:DAYLIGHT
DTSTART;VALUE=DATE-TIME:20190331T030000
TZNAME:CEST
TZOFFSETFROM:+0100
TZOFFSETTO:+0200
END:DAYLIGHT
END:VTIMEZONE
END:VCALENDAR
