BEGIN:VCALENDAR
VERSION:2.0
PRODID:-//Plone.org//NONSGML plone.app.event//EN
X-WR-TIMEZONE:Europe/Berlin
BEGIN:VEVENT
SUMMARY:Un nuovo passo per il futuro delle città
DTSTART;TZID=Europe/Berlin;VALUE=DATE-TIME:20190605T093000
DTEND;TZID=Europe/Berlin;VALUE=DATE-TIME:20190605T160000
DTSTAMP;VALUE=DATE-TIME:20260422T195049Z
UID:c8d15243d98042eeac6fd8c149b33532@www.isprambiente.gov.it
CREATED;VALUE=DATE-TIME:20190524T104840Z
LAST-MODIFIED;VALUE=DATE-TIME:20230120T133535Z
LOCATION:Torino
URL:https://www.isprambiente.gov.it/it/archivio/notizie-e-novita-normative
 /notizie-ispra/2019/06/un-nuovo-passo-per-il-futuro-delle-citta
END:VEVENT
BEGIN:VTIMEZONE
TZID:Europe/Berlin
X-LIC-LOCATION:Europe/Berlin
BEGIN:DAYLIGHT
DTSTART;VALUE=DATE-TIME:20190331T030000
TZNAME:CEST
TZOFFSETFROM:+0100
TZOFFSETTO:+0200
END:DAYLIGHT
END:VTIMEZONE
END:VCALENDAR
