BEGIN:VCALENDAR
VERSION:2.0
PRODID:-//Plone.org//NONSGML plone.app.event//EN
X-WR-TIMEZONE:Europe/Berlin
BEGIN:VEVENT
SUMMARY:VI edizione dell'EcoForum - Conferenza Nazionale sull'economia cir
 colare dei rifiuti
DTSTART;TZID=Europe/Berlin;VALUE=DATE-TIME:20190626T093000
DTEND;TZID=Europe/Berlin;VALUE=DATE-TIME:20190627T173000
DTSTAMP;VALUE=DATE-TIME:20260422T195156Z
UID:6ac05c3bcae8496baffabe4d7cc5629a@www.isprambiente.gov.it
CREATED;VALUE=DATE-TIME:20190614T125328Z
LAST-MODIFIED;VALUE=DATE-TIME:20230120T133535Z
LOCATION:Roma
URL:https://www.isprambiente.gov.it/it/archivio/notizie-e-novita-normative
 /notizie-ispra/2019/06/vi-edizione-dellecoforum-conferenza-nazionale-sulle
 conomia-circolare-dei-rifiuti
END:VEVENT
BEGIN:VTIMEZONE
TZID:Europe/Berlin
X-LIC-LOCATION:Europe/Berlin
BEGIN:DAYLIGHT
DTSTART;VALUE=DATE-TIME:20190331T030000
TZNAME:CEST
TZOFFSETFROM:+0100
TZOFFSETTO:+0200
END:DAYLIGHT
END:VTIMEZONE
END:VCALENDAR
