BEGIN:VCALENDAR
VERSION:2.0
PRODID:-//Plone.org//NONSGML plone.app.event//EN
X-WR-TIMEZONE:Europe/Berlin
BEGIN:VEVENT
SUMMARY:Il MIBAC apre ai territori
DTSTART;TZID=Europe/Berlin;VALUE=DATE-TIME:20190704T100000
DTEND;TZID=Europe/Berlin;VALUE=DATE-TIME:20190704T183000
DTSTAMP;VALUE=DATE-TIME:20260423T134652Z
UID:a0a8dd7391464d949fd9fa096e773189@www.isprambiente.gov.it
CREATED;VALUE=DATE-TIME:20190704T094420Z
DESCRIPTION:Ciclo di incontri con la Commissione di studio per la gestione
  complessa del patrimonio culturale attraverso reti museali e sistemi terr
 itoriali
LAST-MODIFIED;VALUE=DATE-TIME:20230120T133546Z
LOCATION:Treia (MC)
URL:https://www.isprambiente.gov.it/it/archivio/notizie-e-novita-normative
 /notizie-ispra/2019/07/il-mibac-apre-i-territori
END:VEVENT
BEGIN:VTIMEZONE
TZID:Europe/Berlin
X-LIC-LOCATION:Europe/Berlin
BEGIN:DAYLIGHT
DTSTART;VALUE=DATE-TIME:20190331T030000
TZNAME:CEST
TZOFFSETFROM:+0100
TZOFFSETTO:+0200
END:DAYLIGHT
END:VTIMEZONE
END:VCALENDAR
