BEGIN:VCALENDAR
VERSION:2.0
PRODID:-//Plone.org//NONSGML plone.app.event//EN
X-WR-TIMEZONE:Europe/Berlin
BEGIN:VEVENT
SUMMARY:Il suolo circolare. Una nuova cultura di bonifica per la rigeneraz
 ione urbana
DTSTART;TZID=Europe/Berlin;VALUE=DATE-TIME:20190708T093000
DTEND;TZID=Europe/Berlin;VALUE=DATE-TIME:20190708T133000
DTSTAMP;VALUE=DATE-TIME:20260423T135016Z
UID:2d0d14e489fe4fa8a09d9177d37747f3@www.isprambiente.gov.it
CREATED;VALUE=DATE-TIME:20190624T113239Z
LAST-MODIFIED;VALUE=DATE-TIME:20230120T133546Z
LOCATION:Milano
URL:https://www.isprambiente.gov.it/it/archivio/notizie-e-novita-normative
 /notizie-ispra/2019/07/il-suolo-circolare.-una-nuova-cultura-di-bonifica-p
 er-la-rigenerazione-urbana
END:VEVENT
BEGIN:VTIMEZONE
TZID:Europe/Berlin
X-LIC-LOCATION:Europe/Berlin
BEGIN:DAYLIGHT
DTSTART;VALUE=DATE-TIME:20190331T030000
TZNAME:CEST
TZOFFSETFROM:+0100
TZOFFSETTO:+0200
END:DAYLIGHT
END:VTIMEZONE
END:VCALENDAR
