BEGIN:VCALENDAR
VERSION:2.0
PRODID:-//Plone.org//NONSGML plone.app.event//EN
X-WR-TIMEZONE:Europe/Berlin
BEGIN:VEVENT
SUMMARY: Il terremoto in Molise: tra scienza e suggestioni popolari dal si
 sma di Sant’Anna 1805 a oggi 
DTSTART;TZID=Europe/Berlin;VALUE=DATE-TIME:20190719T090000
DTEND;TZID=Europe/Berlin;VALUE=DATE-TIME:20190719T140000
DTSTAMP;VALUE=DATE-TIME:20260423T155851Z
UID:05ece86293c64505b3955db423c00f76@www.isprambiente.gov.it
CREATED;VALUE=DATE-TIME:20190708T113830Z
LAST-MODIFIED;VALUE=DATE-TIME:20230120T133546Z
LOCATION:Jelsi (CB)
URL:https://www.isprambiente.gov.it/it/archivio/notizie-e-novita-normative
 /notizie-ispra/2019/07/il-terremoto-in-molise-tra-scienza-e-suggestioni-po
 polari-dal-sisma-di-sant2019anna-1805-a-oggi
END:VEVENT
BEGIN:VTIMEZONE
TZID:Europe/Berlin
X-LIC-LOCATION:Europe/Berlin
BEGIN:DAYLIGHT
DTSTART;VALUE=DATE-TIME:20190331T030000
TZNAME:CEST
TZOFFSETFROM:+0100
TZOFFSETTO:+0200
END:DAYLIGHT
END:VTIMEZONE
END:VCALENDAR
