BEGIN:VCALENDAR
VERSION:2.0
PRODID:-//Plone.org//NONSGML plone.app.event//EN
X-WR-TIMEZONE:Europe/Berlin
BEGIN:VEVENT
SUMMARY:Ispra presente alla Conferenza Mondiale dei Giornalisti scientific
 i (WCSJ2019) a Losanna
DTSTART;TZID=Europe/Berlin;VALUE=DATE-TIME:20190701T090000
DTEND;TZID=Europe/Berlin;VALUE=DATE-TIME:20190705T170000
DTSTAMP;VALUE=DATE-TIME:20260423T134847Z
UID:6ae3c1e3dc9f45fa9b6fb66f64fdddd7@www.isprambiente.gov.it
CREATED;VALUE=DATE-TIME:20190701T163612Z
LAST-MODIFIED;VALUE=DATE-TIME:20230120T133546Z
LOCATION:Losanna (Svizzera)
URL:https://www.isprambiente.gov.it/it/archivio/notizie-e-novita-normative
 /notizie-ispra/2019/07/ispra-presente-alla-conferenza-mondiale-dei-giornal
 isti-scientifici-a-losanna
END:VEVENT
BEGIN:VTIMEZONE
TZID:Europe/Berlin
X-LIC-LOCATION:Europe/Berlin
BEGIN:DAYLIGHT
DTSTART;VALUE=DATE-TIME:20190331T030000
TZNAME:CEST
TZOFFSETFROM:+0100
TZOFFSETTO:+0200
END:DAYLIGHT
END:VTIMEZONE
END:VCALENDAR
