BEGIN:VCALENDAR
VERSION:2.0
PRODID:-//Plone.org//NONSGML plone.app.event//EN
X-WR-TIMEZONE:Europe/Berlin
BEGIN:VEVENT
SUMMARY:Monitoraggio della biodiversità in ambito alpino: strategie e pro
 spettive di armonizzazione
DTSTART;TZID=Europe/Berlin;VALUE=DATE-TIME:20190712T093000
DTEND;TZID=Europe/Berlin;VALUE=DATE-TIME:20190712T130000
DTSTAMP;VALUE=DATE-TIME:20260420T050255Z
UID:bbc53b9d109548ab994cca3cbcefb7b5@www.isprambiente.gov.it
CREATED;VALUE=DATE-TIME:20190711T101412Z
LAST-MODIFIED;VALUE=DATE-TIME:20230120T133546Z
LOCATION:Belluno
URL:https://www.isprambiente.gov.it/it/archivio/notizie-e-novita-normative
 /notizie-ispra/2019/07/monitoraggio-della-biodiversita-in-ambito-alpino-st
 rategie-e-prospettive-di-armonizzazione
END:VEVENT
BEGIN:VTIMEZONE
TZID:Europe/Berlin
X-LIC-LOCATION:Europe/Berlin
BEGIN:DAYLIGHT
DTSTART;VALUE=DATE-TIME:20190331T030000
TZNAME:CEST
TZOFFSETFROM:+0100
TZOFFSETTO:+0200
END:DAYLIGHT
END:VTIMEZONE
END:VCALENDAR
