BEGIN:VCALENDAR
VERSION:2.0
PRODID:-//Plone.org//NONSGML plone.app.event//EN
X-WR-TIMEZONE:Europe/Berlin
BEGIN:VEVENT
SUMMARY:Presentazione Dossier Ecomafia 2019
DTSTART;TZID=Europe/Berlin;VALUE=DATE-TIME:20190704T093000
DTEND;TZID=Europe/Berlin;VALUE=DATE-TIME:20190704T130000
DTSTAMP;VALUE=DATE-TIME:20260423T141403Z
UID:2afda3efd3a542f38f9c741c1b0dc91f@www.isprambiente.gov.it
CREATED;VALUE=DATE-TIME:20190702T125424Z
LAST-MODIFIED;VALUE=DATE-TIME:20230120T133546Z
LOCATION:Roma
URL:https://www.isprambiente.gov.it/it/archivio/notizie-e-novita-normative
 /notizie-ispra/2019/07/presentazione-dossier-ecomafia-2019
END:VEVENT
BEGIN:VTIMEZONE
TZID:Europe/Berlin
X-LIC-LOCATION:Europe/Berlin
BEGIN:DAYLIGHT
DTSTART;VALUE=DATE-TIME:20190331T030000
TZNAME:CEST
TZOFFSETFROM:+0100
TZOFFSETTO:+0200
END:DAYLIGHT
END:VTIMEZONE
END:VCALENDAR
