BEGIN:VCALENDAR
VERSION:2.0
PRODID:-//Plone.org//NONSGML plone.app.event//EN
X-WR-TIMEZONE:Europe/Berlin
BEGIN:VEVENT
SUMMARY:Quale ricerca per il sistema elettrico del domani
DTSTART;TZID=Europe/Berlin;VALUE=DATE-TIME:20190711T093000
DTEND;TZID=Europe/Berlin;VALUE=DATE-TIME:20190711T170000
DTSTAMP;VALUE=DATE-TIME:20260423T134738Z
UID:e327c8111b124cf083a5a3aaf2b36ef5@www.isprambiente.gov.it
CREATED;VALUE=DATE-TIME:20190711T144728Z
LAST-MODIFIED;VALUE=DATE-TIME:20230120T133546Z
LOCATION:Milano
URL:https://www.isprambiente.gov.it/it/archivio/notizie-e-novita-normative
 /notizie-ispra/2019/07/quale-ricerca-per-il-sistema-elettrico-del-domani
END:VEVENT
BEGIN:VTIMEZONE
TZID:Europe/Berlin
X-LIC-LOCATION:Europe/Berlin
BEGIN:DAYLIGHT
DTSTART;VALUE=DATE-TIME:20190331T030000
TZNAME:CEST
TZOFFSETFROM:+0100
TZOFFSETTO:+0200
END:DAYLIGHT
END:VTIMEZONE
END:VCALENDAR
