BEGIN:VCALENDAR
VERSION:2.0
PRODID:-//Plone.org//NONSGML plone.app.event//EN
X-WR-TIMEZONE:Europe/Berlin
BEGIN:VEVENT
SUMMARY:VIII edizione Confronto interlaboratorio analisi dei macroinverteb
 rati bentonici negli ambienti fluviali
DTSTART;TZID=Europe/Berlin;VALUE=DATE-TIME:20190918T143000
DTEND;TZID=Europe/Berlin;VALUE=DATE-TIME:20190920T170000
DTSTAMP;VALUE=DATE-TIME:20260423T004358Z
UID:c870406a782746c39abbfdda76cfe8df@www.isprambiente.gov.it
CREATED;VALUE=DATE-TIME:20190731T172420Z
LAST-MODIFIED;VALUE=DATE-TIME:20230120T133556Z
LOCATION:Porretta Terme (BO)
URL:https://www.isprambiente.gov.it/it/archivio/notizie-e-novita-normative
 /notizie-ispra/2019/09/viii-edizione-confronto-interlaboratorio-analisi-de
 i-macroinvertebrati-bentonici-negli-ambienti-fluviali
END:VEVENT
BEGIN:VTIMEZONE
TZID:Europe/Berlin
X-LIC-LOCATION:Europe/Berlin
BEGIN:DAYLIGHT
DTSTART;VALUE=DATE-TIME:20190331T030000
TZNAME:CEST
TZOFFSETFROM:+0100
TZOFFSETTO:+0200
END:DAYLIGHT
END:VTIMEZONE
END:VCALENDAR
