BEGIN:VCALENDAR
VERSION:2.0
PRODID:-//Plone.org//NONSGML plone.app.event//EN
X-WR-TIMEZONE:Europe/Berlin
BEGIN:VEVENT
SUMMARY:Vivaismo pistoiese: salute\, ambiente e alternative sostenibili
DTSTART;TZID=Europe/Berlin;VALUE=DATE-TIME:20190928T143000
DTEND;TZID=Europe/Berlin;VALUE=DATE-TIME:20190928T170000
DTSTAMP;VALUE=DATE-TIME:20260423T044511Z
UID:87db825066944bc8a41107a855dfc964@www.isprambiente.gov.it
CREATED;VALUE=DATE-TIME:20190918T132106Z
LAST-MODIFIED;VALUE=DATE-TIME:20230120T133556Z
LOCATION:Pistoia
URL:https://www.isprambiente.gov.it/it/archivio/notizie-e-novita-normative
 /notizie-ispra/2019/09/vivaismo-pistoiese-salute-ambiente-e-alternative-so
 stenibili
END:VEVENT
BEGIN:VTIMEZONE
TZID:Europe/Berlin
X-LIC-LOCATION:Europe/Berlin
BEGIN:DAYLIGHT
DTSTART;VALUE=DATE-TIME:20190331T030000
TZNAME:CEST
TZOFFSETFROM:+0100
TZOFFSETTO:+0200
END:DAYLIGHT
END:VTIMEZONE
END:VCALENDAR
