BEGIN:VCALENDAR
VERSION:2.0
PRODID:-//Plone.org//NONSGML plone.app.event//EN
X-WR-TIMEZONE:Europe/Berlin
BEGIN:VEVENT
SUMMARY:Cibo\, territorio e sostenibilità
DTSTART;TZID=Europe/Berlin;VALUE=DATE-TIME:20191115T000000
DTEND;TZID=Europe/Berlin;VALUE=DATE-TIME:20191216T000000
DTSTAMP;VALUE=DATE-TIME:20260423T013442Z
UID:cf11ec23ffb247b6aa99368b4274beeb@www.isprambiente.gov.it
CREATED;VALUE=DATE-TIME:20191031T094651Z
LAST-MODIFIED;VALUE=DATE-TIME:20230120T133546Z
LOCATION:Trento
URL:https://www.isprambiente.gov.it/it/archivio/notizie-e-novita-normative
 /notizie-ispra/2019/10/cibo-territorio-e-sostenibilita
END:VEVENT
BEGIN:VTIMEZONE
TZID:Europe/Berlin
X-LIC-LOCATION:Europe/Berlin
BEGIN:STANDARD
DTSTART;VALUE=DATE-TIME:20191027T020000
TZNAME:CET
TZOFFSETFROM:+0200
TZOFFSETTO:+0100
END:STANDARD
END:VTIMEZONE
END:VCALENDAR
