BEGIN:VCALENDAR
VERSION:2.0
PRODID:-//Plone.org//NONSGML plone.app.event//EN
X-WR-TIMEZONE:Europe/Berlin
BEGIN:VEVENT
SUMMARY:Una Boa GPS per identificare gli tsunami
DTSTART;TZID=Europe/Berlin;VALUE=DATE-TIME:20191030T173000
DTEND;TZID=Europe/Berlin;VALUE=DATE-TIME:20191030T190000
DTSTAMP;VALUE=DATE-TIME:20260423T062104Z
UID:b1608e02bef24c87bd3aa3d33cd51735@www.isprambiente.gov.it
CREATED;VALUE=DATE-TIME:20191015T122937Z
LAST-MODIFIED;VALUE=DATE-TIME:20230120T133546Z
LOCATION:Genova\, Festival della Scienza
URL:https://www.isprambiente.gov.it/it/archivio/notizie-e-novita-normative
 /notizie-ispra/2019/10/una-boa-gps-per-identificare-gli-tsunami
END:VEVENT
BEGIN:VTIMEZONE
TZID:Europe/Berlin
X-LIC-LOCATION:Europe/Berlin
BEGIN:STANDARD
DTSTART;VALUE=DATE-TIME:20191027T020000
TZNAME:CET
TZOFFSETFROM:+0200
TZOFFSETTO:+0100
END:STANDARD
END:VTIMEZONE
END:VCALENDAR
