BEGIN:VCALENDAR
VERSION:2.0
PRODID:-//Plone.org//NONSGML plone.app.event//EN
X-WR-TIMEZONE:Europe/Berlin
BEGIN:VEVENT
SUMMARY:Bonifica dei siti Inquinati
DTSTART;TZID=Europe/Berlin;VALUE=DATE-TIME:20191122T100000
DTEND;TZID=Europe/Berlin;VALUE=DATE-TIME:20191122T133000
DTSTAMP;VALUE=DATE-TIME:20260423T091713Z
UID:08151189077f44acb9fe9456ffbd2c11@www.isprambiente.gov.it
CREATED;VALUE=DATE-TIME:20191118T104155Z
LAST-MODIFIED;VALUE=DATE-TIME:20230120T133535Z
LOCATION:Roma\, Senato della Repubblica\, Sala ISMA\, piazza Capranica\, 7
 2
URL:https://www.isprambiente.gov.it/it/archivio/notizie-e-novita-normative
 /notizie-ispra/2019/11/bonifica-dei-siti-inquinati
END:VEVENT
BEGIN:VTIMEZONE
TZID:Europe/Berlin
X-LIC-LOCATION:Europe/Berlin
BEGIN:STANDARD
DTSTART;VALUE=DATE-TIME:20191027T020000
TZNAME:CET
TZOFFSETFROM:+0200
TZOFFSETTO:+0100
END:STANDARD
END:VTIMEZONE
END:VCALENDAR
