BEGIN:VCALENDAR
VERSION:2.0
PRODID:-//Plone.org//NONSGML plone.app.event//EN
X-WR-TIMEZONE:Europe/Berlin
BEGIN:VEVENT
SUMMARY:Suolo e agricoltura: dalla ricerca all'azione
DTSTART;TZID=Europe/Berlin;VALUE=DATE-TIME:20191203T090000
DTEND;TZID=Europe/Berlin;VALUE=DATE-TIME:20191203T130000
DTSTAMP;VALUE=DATE-TIME:20260423T105035Z
UID:b405a0edcb9b4bffa37dc29f2d0fbf0c@www.isprambiente.gov.it
CREATED;VALUE=DATE-TIME:20191129T152605Z
LAST-MODIFIED;VALUE=DATE-TIME:20230120T133535Z
LOCATION:Roma\, Camera dei Deputati
URL:https://www.isprambiente.gov.it/it/archivio/notizie-e-novita-normative
 /notizie-ispra/2019/11/suolo-e-agricoltura-dalla-ricerca-allazione
END:VEVENT
BEGIN:VTIMEZONE
TZID:Europe/Berlin
X-LIC-LOCATION:Europe/Berlin
BEGIN:STANDARD
DTSTART;VALUE=DATE-TIME:20191027T020000
TZNAME:CET
TZOFFSETFROM:+0200
TZOFFSETTO:+0100
END:STANDARD
END:VTIMEZONE
END:VCALENDAR
