BEGIN:VCALENDAR
VERSION:2.0
PRODID:-//Plone.org//NONSGML plone.app.event//EN
X-WR-TIMEZONE:Europe/Berlin
BEGIN:VEVENT
SUMMARY:Venti anni di biologia molecolare a supporto della Convenzione di 
 Washington
DTSTART;TZID=Europe/Berlin;VALUE=DATE-TIME:20191113T000000
DTEND;TZID=Europe/Berlin;VALUE=DATE-TIME:20191113T000000
DTSTAMP;VALUE=DATE-TIME:20260423T004758Z
UID:7db37ef6638f49168445bf7ccf0b4484@www.isprambiente.gov.it
CREATED;VALUE=DATE-TIME:20191022T093950Z
DESCRIPTION:Il 13 novembre a Roma\, nella Sala Conferenze del Comando Unit
 à Forestali Ambientali e Agroalimentari dell’Arma dei Carabinieri (CUFA
 ) Via Torino 44\, si terrà il convegno promosso da ISPRA\, "Venti anni di
  biologia molecolare a supporto della Convenzione di Washington" . L’eve
 nto vuole celebrare il ventennio di attività biomolecolari di ISPRA a sup
 porto della CITES\, considerata anche la recente ricorrenza del 40° anniv
 ersario dalla ratifica della Convenzione di Washington (CITES)\, e vuole s
 ottolineare l’efficace collaborazione tra MATTM\, CUFA e ISPRA per l’a
 pplicazione della Convenzione in Italia. Il convegno prevede la partecipaz
 ione di diversi membri della comunità scientifica ed istituzionale\, con 
 contributi sull’attività di ricerca\, forense e ispettiva applicate all
 a conservazione delle specie animali a rischio di estinzione. La giornata 
 si concluderà con una tavola rotonda di discussione e confronto per la ri
 soluzione di problematiche operative e per favorire lo scambio\, la comuni
 cazione e la sensibilizzazione.
LAST-MODIFIED;VALUE=DATE-TIME:20250120T134624Z
LOCATION:Roma\, Comando Unità Forestali Ambientali e Agroalimentari dell
 ’Arma dei Carabinieri
URL:https://www.isprambiente.gov.it/it/archivio/notizie-e-novita-normative
 /notizie-ispra/2019/11/venti-anni-di-biologia-molecolare-a-supporto-della-
 convenzione-di-washington
END:VEVENT
BEGIN:VTIMEZONE
TZID:Europe/Berlin
X-LIC-LOCATION:Europe/Berlin
BEGIN:STANDARD
DTSTART;VALUE=DATE-TIME:20191027T020000
TZNAME:CET
TZOFFSETFROM:+0200
TZOFFSETTO:+0100
END:STANDARD
END:VTIMEZONE
END:VCALENDAR
