BEGIN:VCALENDAR
VERSION:2.0
PRODID:-//Plone.org//NONSGML plone.app.event//EN
X-WR-TIMEZONE:Europe/Berlin
BEGIN:VEVENT
SUMMARY:XI Congresso Nazionale di Legambiente 
DTSTART;TZID=Europe/Berlin;VALUE=DATE-TIME:20191122T000000
DTEND;TZID=Europe/Berlin;VALUE=DATE-TIME:20191124T000000
DTSTAMP;VALUE=DATE-TIME:20260423T105010Z
UID:039b4c208d6d462393a3d22e0445593a@www.isprambiente.gov.it
CREATED;VALUE=DATE-TIME:20191121T110035Z
LAST-MODIFIED;VALUE=DATE-TIME:20230120T133535Z
LOCATION:Napoli
URL:https://www.isprambiente.gov.it/it/archivio/notizie-e-novita-normative
 /notizie-ispra/2019/11/xi-congresso-nazionale-di-legambiente
END:VEVENT
BEGIN:VTIMEZONE
TZID:Europe/Berlin
X-LIC-LOCATION:Europe/Berlin
BEGIN:STANDARD
DTSTART;VALUE=DATE-TIME:20191027T020000
TZNAME:CET
TZOFFSETFROM:+0200
TZOFFSETTO:+0100
END:STANDARD
END:VTIMEZONE
END:VCALENDAR
