BEGIN:VCALENDAR
VERSION:2.0
PRODID:-//Plone.org//NONSGML plone.app.event//EN
X-WR-TIMEZONE:Europe/Berlin
BEGIN:VEVENT
SUMMARY:Agricoltura e apicoltura al servizio del sociale
DTSTART;TZID=Europe/Berlin;VALUE=DATE-TIME:20191212T093000
DTEND;TZID=Europe/Berlin;VALUE=DATE-TIME:20191212T130000
DTSTAMP;VALUE=DATE-TIME:20260423T125339Z
UID:291387d15fae426f8b4d68178aa91a7a@www.isprambiente.gov.it
CREATED;VALUE=DATE-TIME:20191204T144738Z
LAST-MODIFIED;VALUE=DATE-TIME:20230120T133556Z
LOCATION:Bracciano (RM)
URL:https://www.isprambiente.gov.it/it/archivio/notizie-e-novita-normative
 /notizie-ispra/2019/12/agricoltura-e-apicoltura-al-servizio-del-sociale
END:VEVENT
BEGIN:VTIMEZONE
TZID:Europe/Berlin
X-LIC-LOCATION:Europe/Berlin
BEGIN:STANDARD
DTSTART;VALUE=DATE-TIME:20191027T020000
TZNAME:CET
TZOFFSETFROM:+0200
TZOFFSETTO:+0100
END:STANDARD
END:VTIMEZONE
END:VCALENDAR
