BEGIN:VCALENDAR
VERSION:2.0
PRODID:-//Plone.org//NONSGML plone.app.event//EN
X-WR-TIMEZONE:Europe/Berlin
BEGIN:VEVENT
SUMMARY:Cop21 - Conferenza delle Parti della convenzione di Barcellona per
  la protezione dell'ambiente marino e delle regioni costiere del Mediterra
 neo
DTSTART;TZID=Europe/Berlin;VALUE=DATE-TIME:20191202T000000
DTEND;TZID=Europe/Berlin;VALUE=DATE-TIME:20191205T000000
DTSTAMP;VALUE=DATE-TIME:20260423T095611Z
UID:53233f0de62e48eebcd06ed36a1a90be@www.isprambiente.gov.it
CREATED;VALUE=DATE-TIME:20191127T102653Z
LAST-MODIFIED;VALUE=DATE-TIME:20230120T133556Z
LOCATION:Napoli
URL:https://www.isprambiente.gov.it/it/archivio/notizie-e-novita-normative
 /notizie-ispra/2019/12/cop21-conferenza-delle-parti-aderenti-alla-convenzi
 one-di-barcellona-per-la-protezione-dellambiente-marino-e-delle-regioni-co
 stiere-del-mediterraneo
END:VEVENT
BEGIN:VTIMEZONE
TZID:Europe/Berlin
X-LIC-LOCATION:Europe/Berlin
BEGIN:STANDARD
DTSTART;VALUE=DATE-TIME:20191027T020000
TZNAME:CET
TZOFFSETFROM:+0200
TZOFFSETTO:+0100
END:STANDARD
END:VTIMEZONE
END:VCALENDAR
