BEGIN:VCALENDAR
VERSION:2.0
PRODID:-//Plone.org//NONSGML plone.app.event//EN
X-WR-TIMEZONE:Europe/Berlin
BEGIN:VEVENT
SUMMARY:Ispra all'Isola della sostenibilità
DTSTART;TZID=Europe/Berlin;VALUE=DATE-TIME:20191204T000000
DTEND;TZID=Europe/Berlin;VALUE=DATE-TIME:20191207T000000
DTSTAMP;VALUE=DATE-TIME:20260423T130635Z
UID:f993833343d6406a904cc12f6132d5c5@www.isprambiente.gov.it
CREATED;VALUE=DATE-TIME:20191125T104710Z
LAST-MODIFIED;VALUE=DATE-TIME:20230120T133556Z
LOCATION:Roma
URL:https://www.isprambiente.gov.it/it/archivio/notizie-e-novita-normative
 /notizie-ispra/2019/12/isola-della-sostenibilita
END:VEVENT
BEGIN:VTIMEZONE
TZID:Europe/Berlin
X-LIC-LOCATION:Europe/Berlin
BEGIN:STANDARD
DTSTART;VALUE=DATE-TIME:20191027T020000
TZNAME:CET
TZOFFSETFROM:+0200
TZOFFSETTO:+0100
END:STANDARD
END:VTIMEZONE
END:VCALENDAR
