BEGIN:VCALENDAR
VERSION:2.0
PRODID:-//Plone.org//NONSGML plone.app.event//EN
X-WR-TIMEZONE:Europe/Berlin
BEGIN:VEVENT
SUMMARY:Variazioni climatiche e governo idraulico del territorio
DTSTART;TZID=Europe/Berlin;VALUE=DATE-TIME:20200221T083000
DTEND;TZID=Europe/Berlin;VALUE=DATE-TIME:20200221T133000
DTSTAMP;VALUE=DATE-TIME:20260423T062104Z
UID:e224ef0414f94536a61099a95e5a5608@www.isprambiente.gov.it
CREATED;VALUE=DATE-TIME:20200115T152509Z
LAST-MODIFIED;VALUE=DATE-TIME:20230120T133513Z
LOCATION:Padova
URL:https://www.isprambiente.gov.it/it/archivio/notizie-e-novita-normative
 /notizie-ispra/2020/02/variazioni-climatiche-e-governo-idraulico-del-terri
 torio
END:VEVENT
BEGIN:VTIMEZONE
TZID:Europe/Berlin
X-LIC-LOCATION:Europe/Berlin
BEGIN:STANDARD
DTSTART;VALUE=DATE-TIME:20191027T020000
TZNAME:CET
TZOFFSETFROM:+0200
TZOFFSETTO:+0100
END:STANDARD
END:VTIMEZONE
END:VCALENDAR
