BEGIN:VCALENDAR
VERSION:2.0
PRODID:-//Plone.org//NONSGML plone.app.event//EN
X-WR-TIMEZONE:Europe/Berlin
BEGIN:VEVENT
SUMMARY:La tutela degli ecosistemi d'acqua. Mare\, fiumi\, zone umide
DTSTART;TZID=Europe/Berlin;VALUE=DATE-TIME:20200521T180000
DTEND;TZID=Europe/Berlin;VALUE=DATE-TIME:20200521T193000
DTSTAMP;VALUE=DATE-TIME:20260423T062336Z
UID:72a90da6b6b84a4889cc5dca8da8691e@www.isprambiente.gov.it
CREATED;VALUE=DATE-TIME:20200518T135436Z
LAST-MODIFIED;VALUE=DATE-TIME:20230120T133513Z
LOCATION:Webinar
URL:https://www.isprambiente.gov.it/it/archivio/notizie-e-novita-normative
 /notizie-ispra/2020/05/la-tutela-degli-ecosistemi-dacqua-mare-fiumi-zone-u
 mide
END:VEVENT
BEGIN:VTIMEZONE
TZID:Europe/Berlin
X-LIC-LOCATION:Europe/Berlin
BEGIN:DAYLIGHT
DTSTART;VALUE=DATE-TIME:20200329T030000
TZNAME:CEST
TZOFFSETFROM:+0100
TZOFFSETTO:+0200
END:DAYLIGHT
END:VTIMEZONE
END:VCALENDAR
